BEGIN:VCALENDAR
VERSION:2.0
PRODID:Douglas County Library, MN Calendar Creator
METHOD:PUBLISH
BEGIN:VEVENT
DTSTAMP:20230206T150939
DTSTART:20230215T153000
DTEND:20230215T163000
SUMMARY:Teen Art Workshop
DESCRIPTION:Learn to draw cartoons and illustrations with local artist Elaine Kronberg of the Brush and Palette Club. All material provided for this free class!&nbsp;<a href="https://douglascountylibrary.libcal.com/event/10308029" target="_blank">Register Here!</a>
X-ALT-DESC;FMTTYPE=text/html:Learn to draw cartoons and illustrations with local artist Elaine Kronberg of the Brush and Palette Club. All material provided for this free class!&nbsp;<a href="https://douglascountylibrary.libcal.com/event/10308029" target="_blank">Register Here!</a>
LOCATION:Douglas County Library\, 720 Filmore Street Alexandria\, Minnesota 56308
CLASS:PUBLIC
END:VEVENT
END:VCALENDAR
