BEGIN:VCALENDAR
VERSION:2.0
PRODID:Douglas County Library, MN Calendar Creator
METHOD:PUBLISH
BEGIN:VEVENT
DTSTAMP:20230201T120540
DTSTART:20230206T130000
DTEND:20230206T140000
SUMMARY:Valentines Day Painting
DESCRIPTION:<p>Come paint of these&nbsp;<em>lovely</em>&nbsp;wooden Valentines!</p><p>All supplies will be provided. No registration is required.</p><p></p>
X-ALT-DESC;FMTTYPE=text/html:<p>Come paint of these&nbsp;<em>lovely</em>&nbsp;wooden Valentines!</p><p>All supplies will be provided. No registration is required.</p><p></p>
LOCATION:
CLASS:PUBLIC
END:VEVENT
END:VCALENDAR
