BEGIN:VCALENDAR
VERSION:2.0
PRODID:Douglas County Library, MN Calendar Creator
METHOD:PUBLISH
BEGIN:VEVENT
DTSTAMP:20220627T113756
DTSTART:20220809T113000
DTEND:20220809T123000
SUMMARY:Let’s Talk Plants: Incorporating Native Plants in the Perennial Garden
DESCRIPTION:<p>Free! Presented by the Master Gardeners of Douglas County.In the library’s big meeting room.</p><p>Incorporating Native Plants in the Perennial Garden: We will discuss what to look for when selecting plants that are native to Minnesota for the purpose of attracting a variety of pollinators to your garden.</p><p><strong>Organizer</strong>:</p><p>Dawn Dailey<br>Library Director<br>320-762-3014<br><a href="mailto:&#100;&#100;&#97;&#105;&#108;&#101;&#121;&#64;&#100;&#111;&#117;&#103;&#108;&#97;&#115;&#99;&#111;&#117;&#110;&#116;&#121;&#108;&#105;&#98;&#114;&#97;&#114;&#121;&#46;&#111;&#114;&#103;">ddailey@douglascountylibrary.org</a></p>
X-ALT-DESC;FMTTYPE=text/html:<p>Free! Presented by the Master Gardeners of Douglas County.In the library’s big meeting room.</p><p>Incorporating Native Plants in the Perennial Garden: We will discuss what to look for when selecting plants that are native to Minnesota for the purpose of attracting a variety of pollinators to your garden.</p><p><strong>Organizer</strong>:</p><p>Dawn Dailey<br>Library Director<br>320-762-3014<br><a href="mailto:&#100;&#100;&#97;&#105;&#108;&#101;&#121;&#64;&#100;&#111;&#117;&#103;&#108;&#97;&#115;&#99;&#111;&#117;&#110;&#116;&#121;&#108;&#105;&#98;&#114;&#97;&#114;&#121;&#46;&#111;&#114;&#103;">ddailey@douglascountylibrary.org</a></p>
LOCATION:Douglas County Library\, 720 Filmore Street Alexandria\, Minnesota 56308
CLASS:PUBLIC
END:VEVENT
END:VCALENDAR
