BEGIN:VCALENDAR
VERSION:2.0
PRODID:Douglas County Library, MN Calendar Creator
METHOD:PUBLISH
BEGIN:VEVENT
DTSTAMP:20230109T141249
DTSTART:20230119T103000
DTEND:20230119T113000
SUMMARY:Tech Time: Microsoft Word
DESCRIPTION:<p>Create a text document using Microsoft Word.</p><p>Learn how to navigate the program, insert pictures, change font size and color, and much more.</p><p>&nbsp;</p><p><a href="https://douglascountylibrary.libcal.com/event/10196766" target="_blank">Please register here.</a></p><p>&nbsp;</p>
X-ALT-DESC;FMTTYPE=text/html:<p>Create a text document using Microsoft Word.</p><p>Learn how to navigate the program, insert pictures, change font size and color, and much more.</p><p>&nbsp;</p><p><a href="https://douglascountylibrary.libcal.com/event/10196766" target="_blank">Please register here.</a></p><p>&nbsp;</p>
LOCATION:Douglas County Library\, 720 Filmore Street Alexandria\, Minnesota 56308
CLASS:PUBLIC
END:VEVENT
END:VCALENDAR
