BEGIN:VCALENDAR
VERSION:2.0
PRODID:Douglas County Library, MN Calendar Creator
METHOD:PUBLISH
BEGIN:VEVENT
DTSTAMP:20220627T113234
DTSTART:20220712T113000
DTEND:20220712T123000
SUMMARY:Let’s Talk Plants: Gardening for Monarchs
DESCRIPTION:<p>Free! Presented by the Master Gardeners of Douglas County.In the library’s big meeting room.</p><p>If you’re thinking about starting a monarch butterfly garden, this is the year to get growing! Learn how to build habitat in your garden to support these beauties.</p><p><strong>Organizer</strong>:</p><p>Dawn Dailey<br>Library Director<br>320-762-3014<br><a href="mailto:&#100;&#100;&#97;&#105;&#108;&#101;&#121;&#64;&#100;&#111;&#117;&#103;&#108;&#97;&#115;&#99;&#111;&#117;&#110;&#116;&#121;&#108;&#105;&#98;&#114;&#97;&#114;&#121;&#46;&#111;&#114;&#103;">ddailey@douglascountylibrary.org</a></p>
X-ALT-DESC;FMTTYPE=text/html:<p>Free! Presented by the Master Gardeners of Douglas County.In the library’s big meeting room.</p><p>If you’re thinking about starting a monarch butterfly garden, this is the year to get growing! Learn how to build habitat in your garden to support these beauties.</p><p><strong>Organizer</strong>:</p><p>Dawn Dailey<br>Library Director<br>320-762-3014<br><a href="mailto:&#100;&#100;&#97;&#105;&#108;&#101;&#121;&#64;&#100;&#111;&#117;&#103;&#108;&#97;&#115;&#99;&#111;&#117;&#110;&#116;&#121;&#108;&#105;&#98;&#114;&#97;&#114;&#121;&#46;&#111;&#114;&#103;">ddailey@douglascountylibrary.org</a></p>
LOCATION:Douglas County Library\, 720 Filmore Street Alexandria\, Minnesota 56308
CLASS:PUBLIC
END:VEVENT
END:VCALENDAR
