BEGIN:VCALENDAR
VERSION:2.0
PRODID:Douglas County Library, MN Calendar Creator
METHOD:PUBLISH
BEGIN:VEVENT
DTSTAMP:20221215T101044
DTSTART:20230128T100000
DTEND:20230128T140000
SUMMARY:Puzzle Palooza
DESCRIPTION:
X-ALT-DESC;FMTTYPE=text/html:
LOCATION:Douglas County Library\, 720 Filmore Street Alexandria\, Minnesota 56308
CLASS:PUBLIC
END:VEVENT
END:VCALENDAR
