BEGIN:VCALENDAR
VERSION:2.0
PRODID:Douglas County Library, MN Calendar Creator
METHOD:PUBLISH
BEGIN:VEVENT
DTSTAMP:20231002T105755
DTSTART:20230925T183000
DTEND:20230925T200000
SUMMARY:Friends of the Library Book Club
DESCRIPTION:<p>The Friends of the Library Book Club meets at the library from 6:30-8:00 to discuss the following titles throughout the year:</p><p>(Please note, discussions could be held via Zoom if inclement weather occurs.)</p><ul>    <li>January 23: The Four Winds by Kristin Hannah</li>    <li>February 27: The Lincoln Highway by Amor Towles</li>    <li>March 27: The Underground Railroad by Colson Whitehead</li>    <li>April 24: The Only Woman in the Room by Marie Benedict</li>    <li>May 22: The Invention of Wings by Sue Monk Kidd</li>    <li>June 26: The End of Her by Shari Lapena</li>    <li>July 24: The Tattooist of Auschwitz by Heather Morris</li>    <li>August 28: After Anna by Lisa Scottoline</li>    <li>September 25: Sold on a Monday by Kristina McMorris</li>    <li>October 23: It Ends with Us by Colleen Hoover</li>    <li>November 27: Lessons in Chemistry by Bonnie Garmus</li>    <li>December 18: The Book Woman's Daughter by Kim Michele Richardson</li></ul><p>&nbsp;</p>
X-ALT-DESC;FMTTYPE=text/html:<p>The Friends of the Library Book Club meets at the library from 6:30-8:00 to discuss the following titles throughout the year:</p><p>(Please note, discussions could be held via Zoom if inclement weather occurs.)</p><ul>    <li>January 23: The Four Winds by Kristin Hannah</li>    <li>February 27: The Lincoln Highway by Amor Towles</li>    <li>March 27: The Underground Railroad by Colson Whitehead</li>    <li>April 24: The Only Woman in the Room by Marie Benedict</li>    <li>May 22: The Invention of Wings by Sue Monk Kidd</li>    <li>June 26: The End of Her by Shari Lapena</li>    <li>July 24: The Tattooist of Auschwitz by Heather Morris</li>    <li>August 28: After Anna by Lisa Scottoline</li>    <li>September 25: Sold on a Monday by Kristina McMorris</li>    <li>October 23: It Ends with Us by Colleen Hoover</li>    <li>November 27: Lessons in Chemistry by Bonnie Garmus</li>    <li>December 18: The Book Woman's Daughter by Kim Michele Richardson</li></ul><p>&nbsp;</p>
LOCATION:Douglas County Library\, 720 Filmore Street Alexandria\, Minnesota 56308
CLASS:PUBLIC
END:VEVENT
END:VCALENDAR
