BEGIN:VCALENDAR
VERSION:2.0
PRODID:Douglas County Library, MN Calendar Creator
METHOD:PUBLISH
BEGIN:VEVENT
DTSTAMP:20221214T064930
DTSTART:20230314T183000
DTEND:20230314T190000
SUMMARY:Preschool Storytime via Zoom
DESCRIPTION:<p>Join Ms. Sarah on Tuesday evenings for storytime via Zoom! She will read stories, sing songs, and bring out some fun storytime accessories!&nbsp;</p><p>This program is held online so users must have Zoom installed on their phone, computer, or tablet.</p><p><a href="https://us02web.zoom.us/j/86314333204" target="_blank">Log into Zoom storytime</a>!</p><p>This program is recommended for ages 3-5 but any parent, caregiver, and child is welcome to log-in to watch.</p><p>&nbsp;</p>
X-ALT-DESC;FMTTYPE=text/html:<p>Join Ms. Sarah on Tuesday evenings for storytime via Zoom! She will read stories, sing songs, and bring out some fun storytime accessories!&nbsp;</p><p>This program is held online so users must have Zoom installed on their phone, computer, or tablet.</p><p><a href="https://us02web.zoom.us/j/86314333204" target="_blank">Log into Zoom storytime</a>!</p><p>This program is recommended for ages 3-5 but any parent, caregiver, and child is welcome to log-in to watch.</p><p>&nbsp;</p>
LOCATION:
CLASS:PUBLIC
END:VEVENT
END:VCALENDAR
