BEGIN:VCALENDAR
VERSION:2.0
PRODID:Douglas County Library, MN Calendar Creator
METHOD:PUBLISH
BEGIN:VEVENT
DTSTAMP:20221214T064017
DTSTART:20230303T103000
DTEND:20230303T110000
SUMMARY:Baby/Toddler Storytime
DESCRIPTION:For children from birth to 36 months and their parents or caregivers. Talk, sing, read, write, and play together in a format perfect for babies. Share books, stories, rhymes, music, and movement. Baby/Toddler Storytime gives your baby the opportunity to hear lots of language while you get to know other families with little ones. No registration required. Older siblings? Bring them along.<br><br>There is no Baby/Toddler storytime on the following dates: April 7, 2023.
X-ALT-DESC;FMTTYPE=text/html:For children from birth to 36 months and their parents or caregivers. Talk, sing, read, write, and play together in a format perfect for babies. Share books, stories, rhymes, music, and movement. Baby/Toddler Storytime gives your baby the opportunity to hear lots of language while you get to know other families with little ones. No registration required. Older siblings? Bring them along.<br><br>There is no Baby/Toddler storytime on the following dates: April 7, 2023.
LOCATION:Douglas County Library\, 720 Filmore Street Alexandria\, Minnesota 56308
CLASS:PUBLIC
END:VEVENT
END:VCALENDAR
