BEGIN:VCALENDAR
VERSION:2.0
PRODID:Douglas County Library, MN Calendar Creator
METHOD:PUBLISH
BEGIN:VEVENT
DTSTAMP:20260420T124222
DTSTART:20260509T100000
DTEND:20260509T113000
SUMMARY:Kids paint-along with local artist Reese Wales
DESCRIPTION:<p><a href="https://douglascountylibrary.libcal.com/event/16760264" target="_blank" rel="noopener">Please register</a>.&nbsp;</p><p>Local artist Reese Wales is back to help kids with another great painting! This program is free and open to kids in grades K-5.</p><p>Registration is required as space is limited.</p><p>This Activity is funded in part by a grant from Lake Region Arts Council through a Minnesota State Legislative appropriation.</p><p>&nbsp;</p>
X-ALT-DESC;FMTTYPE=text/html:<p><a href="https://douglascountylibrary.libcal.com/event/16760264" target="_blank" rel="noopener">Please register</a>.&nbsp;</p><p>Local artist Reese Wales is back to help kids with another great painting! This program is free and open to kids in grades K-5.</p><p>Registration is required as space is limited.</p><p>This Activity is funded in part by a grant from Lake Region Arts Council through a Minnesota State Legislative appropriation.</p><p>&nbsp;</p>
LOCATION:Douglas County Library\, 720 Filmore Street Alexandria\, Minnesota 56308
CLASS:PUBLIC
END:VEVENT
END:VCALENDAR
