BEGIN:VCALENDAR
VERSION:2.0
PRODID:Douglas County Library, MN Calendar Creator
METHOD:PUBLISH
BEGIN:VEVENT
DTSTAMP:20260417T143959
DTSTART:20260613T100000
DTEND:20260613T120000
SUMMARY:Battleship Tournament!
DESCRIPTION:<div><div><div><p>Battle to the end and win your own battleship game and passes to the Legacy of the Lakes Museum! </p></div><div><p>Grades 4-12 Welcome. Registration recommended, walk-ins welcome as space allows.</p><p><a href="https://douglascountylibrary.libcal.com/event/16752348" target="_blank" rel="noopener">Register Here!</a></p></div></div></div>
X-ALT-DESC;FMTTYPE=text/html:<div><div><div><p>Battle to the end and win your own battleship game and passes to the Legacy of the Lakes Museum! </p></div><div><p>Grades 4-12 Welcome. Registration recommended, walk-ins welcome as space allows.</p><p><a href="https://douglascountylibrary.libcal.com/event/16752348" target="_blank" rel="noopener">Register Here!</a></p></div></div></div>
LOCATION:Douglas County Library\, 720 Filmore Street Alexandria\, Minnesota 56308
CLASS:PUBLIC
END:VEVENT
END:VCALENDAR
