BEGIN:VCALENDAR
VERSION:2.0
PRODID:Douglas County Library, MN Calendar Creator
METHOD:PUBLISH
BEGIN:VEVENT
DTSTAMP:20260416T130313
DTSTART:20260507T170000
DTEND:20260507T183000
SUMMARY:Bad Art Night for Adults
DESCRIPTION:<p>Are you tired of Pinterest-perfect expectations? Do you have a hidden talent for making things look... questionable? Join us at the library for a Bad Art Night—the only event where "terrible" is the highest compliment you can receive. The winner with the absolute worst piece of art will receive a prize for their efforts, so make sure to register today!</p><p>Register here:&nbsp;<a href="https://douglascountylibrary.libcal.com/event/16746671" target="_blank" rel="noopener">https://douglascountylibrary.libcal.com/event/16746671</a></p><p></p>
X-ALT-DESC;FMTTYPE=text/html:<p>Are you tired of Pinterest-perfect expectations? Do you have a hidden talent for making things look... questionable? Join us at the library for a Bad Art Night—the only event where "terrible" is the highest compliment you can receive. The winner with the absolute worst piece of art will receive a prize for their efforts, so make sure to register today!</p><p>Register here:&nbsp;<a href="https://douglascountylibrary.libcal.com/event/16746671" target="_blank" rel="noopener">https://douglascountylibrary.libcal.com/event/16746671</a></p><p></p>
LOCATION:Douglas County Library\, 720 Filmore Street Alexandria\, Minnesota 56308
CLASS:PUBLIC
END:VEVENT
END:VCALENDAR
