BEGIN:VCALENDAR
VERSION:2.0
PRODID:Douglas County Library, MN Calendar Creator
METHOD:PUBLISH
BEGIN:VEVENT
DTSTAMP:20260408T145359
DTSTART:20260722T170000
DTEND:20260722T190000
SUMMARY:Make Your Own Miniature Bookshelf
DESCRIPTION:<div><div><div><p>Design your own mini-bookshelf using provided supplies! </p></div><div><p>Grades 6-12 | Registration Required</p></div></div></div><p>&nbsp;<a href="https://douglascountylibrary.libcal.com/event/16708088" target="_blank" rel="noopener">Register Here!</a></p>
X-ALT-DESC;FMTTYPE=text/html:<div><div><div><p>Design your own mini-bookshelf using provided supplies! </p></div><div><p>Grades 6-12 | Registration Required</p></div></div></div><p>&nbsp;<a href="https://douglascountylibrary.libcal.com/event/16708088" target="_blank" rel="noopener">Register Here!</a></p>
LOCATION:Douglas County Library\, 720 Filmore Street Alexandria\, Minnesota 56308
CLASS:PUBLIC
END:VEVENT
END:VCALENDAR
