BEGIN:VCALENDAR
VERSION:2.0
PRODID:Douglas County Library, MN Calendar Creator
METHOD:PUBLISH
BEGIN:VEVENT
DTSTAMP:20260408T143131
DTSTART:20260812T160000
DTEND:20260812T190000
SUMMARY:Book Bedazzling
DESCRIPTION:<div><div><div><p>Add some bling to your favorite book! Please bring your own book, bling will be provided. We will have a limited number of books available if needed.</p></div></div></div><p>Grades 6-12. Registration Required.</p><p>&nbsp;<a href="https://douglascountylibrary.libcal.com/event/16662225" target="_blank" rel="noopener">Register Here!</a></p>
X-ALT-DESC;FMTTYPE=text/html:<div><div><div><p>Add some bling to your favorite book! Please bring your own book, bling will be provided. We will have a limited number of books available if needed.</p></div></div></div><p>Grades 6-12. Registration Required.</p><p>&nbsp;<a href="https://douglascountylibrary.libcal.com/event/16662225" target="_blank" rel="noopener">Register Here!</a></p>
LOCATION:Douglas County Library\, 720 Filmore Street Alexandria\, Minnesota 56308
CLASS:PUBLIC
END:VEVENT
END:VCALENDAR
