BEGIN:VCALENDAR
VERSION:2.0
PRODID:Douglas County Library, MN Calendar Creator
METHOD:PUBLISH
BEGIN:VEVENT
DTSTAMP:20260408T135611
DTSTART:20260708T160000
DTEND:20260708T190000
SUMMARY:Game Night @ the Library!
DESCRIPTION:<p>Drop in to play a variety of games including Mario Kart 8 Deluxe, Super Smash Bros., Splatoon 3, and more on the Nintendo Switch. No experience is necessary. Grades 6-12.</p><p>Registration encouraged but not required.&nbsp;</p><p><a href="https://douglascountylibrary.libcal.com/event/15492729" target="_blank" rel="noopener">Register Here!</a></p><p>*Note: personal Nintendo Switch Consoles cannot be hooked up to the library TV as this is a library-sponsored event and pre-selected parental controls must be used.</p>
X-ALT-DESC;FMTTYPE=text/html:<p>Drop in to play a variety of games including Mario Kart 8 Deluxe, Super Smash Bros., Splatoon 3, and more on the Nintendo Switch. No experience is necessary. Grades 6-12.</p><p>Registration encouraged but not required.&nbsp;</p><p><a href="https://douglascountylibrary.libcal.com/event/15492729" target="_blank" rel="noopener">Register Here!</a></p><p>*Note: personal Nintendo Switch Consoles cannot be hooked up to the library TV as this is a library-sponsored event and pre-selected parental controls must be used.</p>
LOCATION:Douglas County Library\, 720 Filmore Street Alexandria\, Minnesota 56308
CLASS:PUBLIC
END:VEVENT
END:VCALENDAR
