BEGIN:VCALENDAR
VERSION:2.0
PRODID:Douglas County Library, MN Calendar Creator
METHOD:PUBLISH
BEGIN:VEVENT
DTSTAMP:20260408T134350
DTSTART:20260817T160000
DTEND:20260817T190000
SUMMARY:CyberArt for Teens!
DESCRIPTION:<p>Learn about Digital Art and Animation at the Library with local artist and author, Jax Rose! No experience necessary. iPads and pens will be provided but feel free to bring your own device. Attending all classes is encouraged but not required. Classes will be held in the Large Meeting Room.</p><p>Attend one or multiple lessons! Separate registrations for each class.</p><p>This event is for students entering Grades 6-12 only.</p><p>&nbsp;<a href="https://douglascountylibrary.libcal.com/event/16632779" target="_blank" rel="noopener">Register Here!</a></p>
X-ALT-DESC;FMTTYPE=text/html:<p>Learn about Digital Art and Animation at the Library with local artist and author, Jax Rose! No experience necessary. iPads and pens will be provided but feel free to bring your own device. Attending all classes is encouraged but not required. Classes will be held in the Large Meeting Room.</p><p>Attend one or multiple lessons! Separate registrations for each class.</p><p>This event is for students entering Grades 6-12 only.</p><p>&nbsp;<a href="https://douglascountylibrary.libcal.com/event/16632779" target="_blank" rel="noopener">Register Here!</a></p>
LOCATION:Douglas County Library\, 720 Filmore Street Alexandria\, Minnesota 56308
CLASS:PUBLIC
END:VEVENT
END:VCALENDAR
