BEGIN:VCALENDAR
VERSION:2.0
PRODID:Douglas County Library, MN Calendar Creator
METHOD:PUBLISH
BEGIN:VEVENT
DTSTAMP:20260406T133145
DTSTART:20260601T090000
DTEND:20260831T200000
SUMMARY:Hidden Garden
DESCRIPTION:<div><div><div><p>Escape Room begins in the Teen Area and continues throughout the library. All ages welcome to play and win a small prize.</p></div><div><p>Grades 6-12 may register for Grand Prize!</p></div><div><p>*Escape Room runs from 6/1-8/31.</p></div><div><p>Limit 1 prize per patron.</p></div></div></div>
X-ALT-DESC;FMTTYPE=text/html:<div><div><div><p>Escape Room begins in the Teen Area and continues throughout the library. All ages welcome to play and win a small prize.</p></div><div><p>Grades 6-12 may register for Grand Prize!</p></div><div><p>*Escape Room runs from 6/1-8/31.</p></div><div><p>Limit 1 prize per patron.</p></div></div></div>
LOCATION:Douglas County Library\, 720 Filmore Street Alexandria\, Minnesota 56308
CLASS:PUBLIC
END:VEVENT
END:VCALENDAR
