BEGIN:VCALENDAR
VERSION:2.0
PRODID:Douglas County Library, MN Calendar Creator
METHOD:PUBLISH
BEGIN:VEVENT
DTSTAMP:20260406T084640
DTSTART:20260622T120000
DTEND:20260622T160000
SUMMARY:Sewing Camp for Teens
DESCRIPTION:<div><div><div><p>Learn the basics of operating a sewing machine and make your own rag quilt!</p></div><div><p> This class will run as a series with one registration for all classes. </p></div><div><p>There is a required purchase of two flannel fabrics that coordinate/contrast. For each fabric you need 2 2/3 yards for a total of 5 1/3 yard fabric. See registration for more details.</p></div><div><p> </p></div><div><p><a href="https://douglascountylibrary.libcal.com/event/16466414" target="_blank" rel="noopener">Register Here!</a>&nbsp;</p><p>All skill levels welcome.</p></div><div><p>This event is for students entering grades 6-12 in the 2026.</p></div></div></div>
X-ALT-DESC;FMTTYPE=text/html:<div><div><div><p>Learn the basics of operating a sewing machine and make your own rag quilt!</p></div><div><p> This class will run as a series with one registration for all classes. </p></div><div><p>There is a required purchase of two flannel fabrics that coordinate/contrast. For each fabric you need 2 2/3 yards for a total of 5 1/3 yard fabric. See registration for more details.</p></div><div><p> </p></div><div><p><a href="https://douglascountylibrary.libcal.com/event/16466414" target="_blank" rel="noopener">Register Here!</a>&nbsp;</p><p>All skill levels welcome.</p></div><div><p>This event is for students entering grades 6-12 in the 2026.</p></div></div></div>
LOCATION:Douglas County Library\, 720 Filmore Street Alexandria\, Minnesota 56308
CLASS:PUBLIC
END:VEVENT
END:VCALENDAR
