BEGIN:VCALENDAR
VERSION:2.0
PRODID:Douglas County Library, MN Calendar Creator
METHOD:PUBLISH
BEGIN:VEVENT
DTSTAMP:20260402T105207
DTSTART:20260430T163000
DTEND:20260430T180000
SUMMARY:Macrame 101 for Adults
DESCRIPTION:<p>Learn the basics of macrame with us at the library by creating your own macrame diffuser! Macrame is the art of knotting cord to create decorative and functional textiles.</p><p>Register here:&nbsp;<a href="https://douglascountylibrary.libcal.com/event/16669795" target="_blank" rel="noopener">https://douglascountylibrary.libcal.com/event/16669795</a></p><p></p>
X-ALT-DESC;FMTTYPE=text/html:<p>Learn the basics of macrame with us at the library by creating your own macrame diffuser! Macrame is the art of knotting cord to create decorative and functional textiles.</p><p>Register here:&nbsp;<a href="https://douglascountylibrary.libcal.com/event/16669795" target="_blank" rel="noopener">https://douglascountylibrary.libcal.com/event/16669795</a></p><p></p>
LOCATION:Douglas County Library\, 720 Filmore Street Alexandria\, Minnesota 56308
CLASS:PUBLIC
END:VEVENT
END:VCALENDAR
