BEGIN:VCALENDAR
VERSION:2.0
PRODID:Douglas County Library, MN Calendar Creator
METHOD:PUBLISH
BEGIN:VEVENT
DTSTAMP:20260331T131755
DTSTART:20260601T090000
DTEND:20260731T235900
SUMMARY:Teen Summer Reading Challenge
DESCRIPTION:<div><p>This program is for students entering grades 6-12 and runs June 1st - July 31st.</p></div><div><p>Prizes begin at just 200 minutes!</p></div><div><p>Download the Reader Zone app, enter code 9331a, and start tracking minutes!</p></div><div><p>Win up to 3 prizes and an entry for one of the Grand Prizes once the challenge is complete!</p></div><div><p>Keep Reading - Win a prize for the most minutes read!</p></div>
X-ALT-DESC;FMTTYPE=text/html:<div><p>This program is for students entering grades 6-12 and runs June 1st - July 31st.</p></div><div><p>Prizes begin at just 200 minutes!</p></div><div><p>Download the Reader Zone app, enter code 9331a, and start tracking minutes!</p></div><div><p>Win up to 3 prizes and an entry for one of the Grand Prizes once the challenge is complete!</p></div><div><p>Keep Reading - Win a prize for the most minutes read!</p></div>
LOCATION:Douglas County Library\, 720 Filmore Street Alexandria\, Minnesota 56308
CLASS:PUBLIC
END:VEVENT
END:VCALENDAR
