BEGIN:VCALENDAR
VERSION:2.0
PRODID:Douglas County Library, MN Calendar Creator
METHOD:PUBLISH
BEGIN:VEVENT
DTSTAMP:20260326T122557
DTSTART:20260423T170000
DTEND:20260423T180000
SUMMARY:Repurposed Delights: DIY Checkers
DESCRIPTION:<p>Join us for our April edition of Repurposed Delights! This edition will feature DIY Checkers using pieces of sublimated felt, bottle caps, and old scrapbook paper.</p><p>This craft is perfect for those who love traveling and want to take a homemade game with them on the road, or even just for home use and easy clean up!</p><p>Register here:&nbsp;<a href="https://douglascountylibrary.libcal.com/event/16639750" target="_blank" rel="noopener">https://douglascountylibrary.libcal.com/event/16639750</a></p><p></p>
X-ALT-DESC;FMTTYPE=text/html:<p>Join us for our April edition of Repurposed Delights! This edition will feature DIY Checkers using pieces of sublimated felt, bottle caps, and old scrapbook paper.</p><p>This craft is perfect for those who love traveling and want to take a homemade game with them on the road, or even just for home use and easy clean up!</p><p>Register here:&nbsp;<a href="https://douglascountylibrary.libcal.com/event/16639750" target="_blank" rel="noopener">https://douglascountylibrary.libcal.com/event/16639750</a></p><p></p>
LOCATION:Douglas County Library\, 720 Filmore Street Alexandria\, Minnesota 56308
CLASS:PUBLIC
END:VEVENT
END:VCALENDAR
