BEGIN:VCALENDAR
VERSION:2.0
PRODID:Douglas County Library, MN Calendar Creator
METHOD:PUBLISH
BEGIN:VEVENT
DTSTAMP:20260317T104601
DTSTART:20260421T180000
DTEND:20260421T190000
SUMMARY:Ceramic Planters for Kids
DESCRIPTION:<p><a href="https://douglascountylibrary.libcal.com/event/16587174" target="_blank" rel="noopener">Registration required (opens March 21)</a></p><p>Paint a ceramic planter that you can take home and put a plant in. (Plants not provided.)</p><p>Limited supplies of planters. Registration is required.</p><p>For ages 4 up to grade 5.</p><p><strong>If event is full--to get on the waitlist for this event, please email youth librarian Sarah Wethern at swethern@douglascountylibrary.org with how many kids would be attending. (Due to limited supplies, a general waitlist will not open like normal.)</strong></p><p></p>
X-ALT-DESC;FMTTYPE=text/html:<p><a href="https://douglascountylibrary.libcal.com/event/16587174" target="_blank" rel="noopener">Registration required (opens March 21)</a></p><p>Paint a ceramic planter that you can take home and put a plant in. (Plants not provided.)</p><p>Limited supplies of planters. Registration is required.</p><p>For ages 4 up to grade 5.</p><p><strong>If event is full--to get on the waitlist for this event, please email youth librarian Sarah Wethern at swethern@douglascountylibrary.org with how many kids would be attending. (Due to limited supplies, a general waitlist will not open like normal.)</strong></p><p></p>
LOCATION:Douglas County Library\, 720 Filmore Street Alexandria\, Minnesota 56308
CLASS:PUBLIC
END:VEVENT
END:VCALENDAR
