BEGIN:VCALENDAR
VERSION:2.0
PRODID:Douglas County Library, MN Calendar Creator
METHOD:PUBLISH
BEGIN:VEVENT
DTSTAMP:20260316T140600
DTSTART:20260617T150000
DTEND:20260617T170000
SUMMARY:Teen Maker Lab
DESCRIPTION:<div><div><div><p>Items available on a first come, first served basis and may include water bottles, glass cans, puzzles, pencil bags, socks, 8x12 signs, bookmarks, tote bags, and more! Grades 6-12. Registration Required.</p></div></div></div><p>&nbsp;<a href="https://douglascountylibrary.libcal.com/event/16582652" target="_blank" rel="noopener">Register Here!</a></p>
X-ALT-DESC;FMTTYPE=text/html:<div><div><div><p>Items available on a first come, first served basis and may include water bottles, glass cans, puzzles, pencil bags, socks, 8x12 signs, bookmarks, tote bags, and more! Grades 6-12. Registration Required.</p></div></div></div><p>&nbsp;<a href="https://douglascountylibrary.libcal.com/event/16582652" target="_blank" rel="noopener">Register Here!</a></p>
LOCATION:Douglas County Library\, 720 Filmore Street Alexandria\, Minnesota 56308
CLASS:PUBLIC
END:VEVENT
END:VCALENDAR
