BEGIN:VCALENDAR
VERSION:2.0
PRODID:Douglas County Library, MN Calendar Creator
METHOD:PUBLISH
BEGIN:VEVENT
DTSTAMP:20260313T100153
DTSTART:20260509T100000
DTEND:20260509T130000
SUMMARY:Book Bedazzling
DESCRIPTION:<div><div><div><p>Add some bling to your favorite book! Please bring your own book, bling will be provided. We will have a limited number of books available if needed. Located in the Teen Area.</p></div></div></div><p>Grades 6-12. Registration Required.</p><p><a href="https://douglascountylibrary.libcal.com/event/16571082" target="_blank" rel="noopener">Register Here!</a></p><p>&nbsp;</p>
X-ALT-DESC;FMTTYPE=text/html:<div><div><div><p>Add some bling to your favorite book! Please bring your own book, bling will be provided. We will have a limited number of books available if needed. Located in the Teen Area.</p></div></div></div><p>Grades 6-12. Registration Required.</p><p><a href="https://douglascountylibrary.libcal.com/event/16571082" target="_blank" rel="noopener">Register Here!</a></p><p>&nbsp;</p>
LOCATION:Douglas County Library\, 720 Filmore Street Alexandria\, Minnesota 56308
CLASS:PUBLIC
END:VEVENT
END:VCALENDAR
