BEGIN:VCALENDAR
VERSION:2.0
PRODID:Douglas County Library, MN Calendar Creator
METHOD:PUBLISH
BEGIN:VEVENT
DTSTAMP:20260311T125708
DTSTART:20260526T170000
DTEND:20260526T180000
SUMMARY:Tech Time Tuesdays
DESCRIPTION:<p data-start="0" data-end="32"><strong data-start="0" data-end="32">Tech Tuesdays at the Library</strong></p><p data-start="34" data-end="312">Curious about technology but not sure where to start? Join us for <strong data-start="100" data-end="117">Tech Tuesdays</strong>, a relaxed monthly series designed to help you better understand the digital world. Each session breaks down current technology topics in a clear, practical way—no technical background required.</p><p data-start="314" data-end="340">Upcoming sessions include:</p><ul data-start="342" data-end="851">    <li data-section-id="1cq2cxv" data-start="342" data-end="518">    <p data-start="344" data-end="518"><strong data-start="344" data-end="396">May 26 – What is AI? (And Why Is It Everywhere?)</strong><br data-start="396" data-end="399">    Learn the basics of artificial intelligence, how it works, and where you’re already encountering it in everyday life.</p>    </li>    <li data-section-id="1r7vlb9" data-start="520" data-end="692">    <p data-start="522" data-end="692"><strong data-start="522" data-end="567">June 23 – Real vs. AI: Pictures and Video</strong><br data-start="567" data-end="570">    Explore how AI-generated images and videos are created and learn practical tips for spotting what’s real and what’s not.</p>    </li>    <li data-section-id="ollqym" data-start="694" data-end="851">    <p data-start="696" data-end="851"><strong data-start="696" data-end="739">July 28 – Spotting Text and Email Scams</strong><br data-start="739" data-end="742">    Discover common tactics used in digital scams and how to protect yourself from fraudulent texts and emails.</p>    </li></ul><p data-start="853" data-end="967" data-is-last-node="" data-is-only-node="">These sessions are perfect for beginners and anyone who wants to feel more confident navigating modern technology.</p>
X-ALT-DESC;FMTTYPE=text/html:<p data-start="0" data-end="32"><strong data-start="0" data-end="32">Tech Tuesdays at the Library</strong></p><p data-start="34" data-end="312">Curious about technology but not sure where to start? Join us for <strong data-start="100" data-end="117">Tech Tuesdays</strong>, a relaxed monthly series designed to help you better understand the digital world. Each session breaks down current technology topics in a clear, practical way—no technical background required.</p><p data-start="314" data-end="340">Upcoming sessions include:</p><ul data-start="342" data-end="851">    <li data-section-id="1cq2cxv" data-start="342" data-end="518">    <p data-start="344" data-end="518"><strong data-start="344" data-end="396">May 26 – What is AI? (And Why Is It Everywhere?)</strong><br data-start="396" data-end="399">    Learn the basics of artificial intelligence, how it works, and where you’re already encountering it in everyday life.</p>    </li>    <li data-section-id="1r7vlb9" data-start="520" data-end="692">    <p data-start="522" data-end="692"><strong data-start="522" data-end="567">June 23 – Real vs. AI: Pictures and Video</strong><br data-start="567" data-end="570">    Explore how AI-generated images and videos are created and learn practical tips for spotting what’s real and what’s not.</p>    </li>    <li data-section-id="ollqym" data-start="694" data-end="851">    <p data-start="696" data-end="851"><strong data-start="696" data-end="739">July 28 – Spotting Text and Email Scams</strong><br data-start="739" data-end="742">    Discover common tactics used in digital scams and how to protect yourself from fraudulent texts and emails.</p>    </li></ul><p data-start="853" data-end="967" data-is-last-node="" data-is-only-node="">These sessions are perfect for beginners and anyone who wants to feel more confident navigating modern technology.</p>
LOCATION:Douglas County Library\, 720 Filmore Street Alexandria\, Minnesota 56308
CLASS:PUBLIC
END:VEVENT
END:VCALENDAR
