BEGIN:VCALENDAR
VERSION:2.0
PRODID:Douglas County Library, MN Calendar Creator
METHOD:PUBLISH
BEGIN:VEVENT
DTSTAMP:20260304T141731
DTSTART:20260501T090000
DTEND:20260530T235900
SUMMARY:Fidget Frenzy!!!
DESCRIPTION:<div><p>Try out a variety of fidgets and vote for your fave.</p></div><div><p>All entries will be entered into a drawing to win all 5 fidgets!</p></div><div><p>Must be in grades 6-12 to win!</p></div>
X-ALT-DESC;FMTTYPE=text/html:<div><p>Try out a variety of fidgets and vote for your fave.</p></div><div><p>All entries will be entered into a drawing to win all 5 fidgets!</p></div><div><p>Must be in grades 6-12 to win!</p></div>
LOCATION:Douglas County Library\, 720 Filmore Street Alexandria\, Minnesota 56308
CLASS:PUBLIC
END:VEVENT
END:VCALENDAR
