BEGIN:VCALENDAR
VERSION:2.0
PRODID:Douglas County Library, MN Calendar Creator
METHOD:PUBLISH
BEGIN:VEVENT
DTSTAMP:20260304T135922
DTSTART:20260504T140000
DTEND:20260504T170000
SUMMARY:Pushing Buttons
DESCRIPTION:<div><div><div><p>Stop by the Library and make your own Mental Health Awareness Pinback Button!</p></div></div></div><p>Assorted styles available on a first come, first served basis.</p><p>No registration needed!</p><p>Grades 4-12 welcome.</p>
X-ALT-DESC;FMTTYPE=text/html:<div><div><div><p>Stop by the Library and make your own Mental Health Awareness Pinback Button!</p></div></div></div><p>Assorted styles available on a first come, first served basis.</p><p>No registration needed!</p><p>Grades 4-12 welcome.</p>
LOCATION:Douglas County Library\, 720 Filmore Street Alexandria\, Minnesota 56308
CLASS:PUBLIC
END:VEVENT
END:VCALENDAR
