BEGIN:VCALENDAR
VERSION:2.0
PRODID:Douglas County Library, MN Calendar Creator
METHOD:PUBLISH
BEGIN:VEVENT
DTSTAMP:20260217T104240
DTSTART:20260305T150000
DTEND:20260305T170000
SUMMARY:Kids Miniature Art Show
DESCRIPTION:<p><a href="https://douglascountylibrary.libcal.com/event/16433753" target="_blank" rel="noopener">Please register for your 4 x 4 canvas</a>.&nbsp;</p><p>This miniature art show is for kids in grades 3-5.</p><p>March is&nbsp;<a href="https://en.wikipedia.org/wiki/Youth_Art_Month" target="_blank">Youth Art Month</a>!</p><p>Kids in grades 3-5, register for a 4x4 canvas to paint!</p><p>Paint your canvas in the small meeting room near Ms. Sarah's office from 3:00-5:00PM March 2-6. All supplies provided! When you're done, leave it with Ms. Sarah for display the rest of the month.</p><p>Art will be displayed in the front of the library! When you come to pick up your project at the end of March, each participant will get a small prize.</p><p>&nbsp;</p>
X-ALT-DESC;FMTTYPE=text/html:<p><a href="https://douglascountylibrary.libcal.com/event/16433753" target="_blank" rel="noopener">Please register for your 4 x 4 canvas</a>.&nbsp;</p><p>This miniature art show is for kids in grades 3-5.</p><p>March is&nbsp;<a href="https://en.wikipedia.org/wiki/Youth_Art_Month" target="_blank">Youth Art Month</a>!</p><p>Kids in grades 3-5, register for a 4x4 canvas to paint!</p><p>Paint your canvas in the small meeting room near Ms. Sarah's office from 3:00-5:00PM March 2-6. All supplies provided! When you're done, leave it with Ms. Sarah for display the rest of the month.</p><p>Art will be displayed in the front of the library! When you come to pick up your project at the end of March, each participant will get a small prize.</p><p>&nbsp;</p>
LOCATION:Douglas County Library\, 720 Filmore Street Alexandria\, Minnesota 56308
CLASS:PUBLIC
END:VEVENT
END:VCALENDAR
