BEGIN:VCALENDAR
VERSION:2.0
PRODID:Douglas County Library, MN Calendar Creator
METHOD:PUBLISH
BEGIN:VEVENT
DTSTAMP:20260217T070235
DTSTART:20260311T090000
DTEND:20260311T180000
SUMMARY:Spring Pop-Up Book Sale
DESCRIPTION:<p direction-ltr="" align-center="" para-style-body"=""><span style="color: rgb(192, 0, 0);"><strong>Find Your Next Great Read!</strong></span></p><p direction-ltr="" align-center="" para-style-body"="">March 10 &amp; 11 from 9am-6pm in the gym adjacent to the library.</p><p direction-ltr="" align-center="" para-style-body"=""> Books available for a free will donation.</p><p direction-ltr="" align-center="" para-style-body"="">All proceeds go to the Friends of the Douglas County Library.</p><p direction-ltr="" align-center="" para-style-body"=""> Give what you can — every contribution helps fund library programs and new materials!</p>
X-ALT-DESC;FMTTYPE=text/html:<p direction-ltr="" align-center="" para-style-body"=""><span style="color: rgb(192, 0, 0);"><strong>Find Your Next Great Read!</strong></span></p><p direction-ltr="" align-center="" para-style-body"="">March 10 &amp; 11 from 9am-6pm in the gym adjacent to the library.</p><p direction-ltr="" align-center="" para-style-body"=""> Books available for a free will donation.</p><p direction-ltr="" align-center="" para-style-body"="">All proceeds go to the Friends of the Douglas County Library.</p><p direction-ltr="" align-center="" para-style-body"=""> Give what you can — every contribution helps fund library programs and new materials!</p>
LOCATION:Douglas County Library\, 720 Filmore Street Alexandria\, Minnesota 56308
CLASS:PUBLIC
END:VEVENT
END:VCALENDAR
