BEGIN:VCALENDAR
VERSION:2.0
PRODID:Douglas County Library, MN Calendar Creator
METHOD:PUBLISH
BEGIN:VEVENT
DTSTAMP:20260205T130803
DTSTART:20260304T153000
DTEND:20260304T163000
SUMMARY:Painting Ceramic Dinosaurs for Kids
DESCRIPTION:<p>Paint your very own ceramic dinosaur. This program is for kids of all ages interested in dinosaurs.</p><p>All supplies provided.</p><p><a href="https://douglascountylibrary.libcal.com/event/16365484" target="_blank" rel="noopener">Register here!</a></p><p></p>
X-ALT-DESC;FMTTYPE=text/html:<p>Paint your very own ceramic dinosaur. This program is for kids of all ages interested in dinosaurs.</p><p>All supplies provided.</p><p><a href="https://douglascountylibrary.libcal.com/event/16365484" target="_blank" rel="noopener">Register here!</a></p><p></p>
LOCATION:Douglas County Library\, 720 Filmore Street Alexandria\, Minnesota 56308
CLASS:PUBLIC
END:VEVENT
END:VCALENDAR
