BEGIN:VCALENDAR
VERSION:2.0
PRODID:Douglas County Library, MN Calendar Creator
METHOD:PUBLISH
BEGIN:VEVENT
DTSTAMP:20260205T122831
DTSTART:20260321T103000
DTEND:20260321T123000
SUMMARY:Mini Button Maker Lab (Grades 3-5)
DESCRIPTION:<div><p>Design using CANVA and press your own set of 1 inch pinback buttons! Class includes 5 mini buttons.</p></div><div><p>Grades 3-5 | Registration Required (opens February 21, 2026)</p><p><a href="https://douglascountylibrary.libcal.com/event/16364766" target="_blank" rel="noopener">Register Here</a>!</p><p>&nbsp;</p></div>
X-ALT-DESC;FMTTYPE=text/html:<div><p>Design using CANVA and press your own set of 1 inch pinback buttons! Class includes 5 mini buttons.</p></div><div><p>Grades 3-5 | Registration Required (opens February 21, 2026)</p><p><a href="https://douglascountylibrary.libcal.com/event/16364766" target="_blank" rel="noopener">Register Here</a>!</p><p>&nbsp;</p></div>
LOCATION:Douglas County Library\, 720 Filmore Street Alexandria\, Minnesota 56308
CLASS:PUBLIC
END:VEVENT
END:VCALENDAR
