BEGIN:VCALENDAR
VERSION:2.0
PRODID:Douglas County Library, MN Calendar Creator
METHOD:PUBLISH
BEGIN:VEVENT
DTSTAMP:20251226T122240
DTSTART:20260124T130000
DTEND:20260124T143000
SUMMARY:K-Pop Demon Hunters Inspired Painting with Reese Wales
DESCRIPTION:<p>For kids ages 6 up to grade 6 interested in K-Pop Demon Hunters. This painting will be inspired by the popular movie. Participants will follow along with local artist Reese Wales as she helps them create a K-Pop painting!</p><p><a href="https://douglascountylibrary.libcal.com/event/16001831" target="_blank" rel="noopener">Class size is limited so registration is required</a>.</p><p></p>
X-ALT-DESC;FMTTYPE=text/html:<p>For kids ages 6 up to grade 6 interested in K-Pop Demon Hunters. This painting will be inspired by the popular movie. Participants will follow along with local artist Reese Wales as she helps them create a K-Pop painting!</p><p><a href="https://douglascountylibrary.libcal.com/event/16001831" target="_blank" rel="noopener">Class size is limited so registration is required</a>.</p><p></p>
LOCATION:Douglas County Library\, 720 Filmore Street Alexandria\, Minnesota 56308
CLASS:PUBLIC
END:VEVENT
END:VCALENDAR
