BEGIN:VCALENDAR
VERSION:2.0
PRODID:Douglas County Library, MN Calendar Creator
METHOD:PUBLISH
BEGIN:VEVENT
DTSTAMP:20221028T101429
DTSTART:20221102T000000
DTEND:20221130T235900
SUMMARY:Turkey Scavenger Hunt
DESCRIPTION:<p style="text-align: left;">Pick up a scavenger hunt sheet in the children's area of the library and see if you can find the turkeys hiding around the library. Turn your scavenger hunt in to the kid's desk for a small prize. Open to kids of all ages. This passive program is available any time the library is open. Please participate just once throughout the month of November.</p>
X-ALT-DESC;FMTTYPE=text/html:<p style="text-align: left;">Pick up a scavenger hunt sheet in the children's area of the library and see if you can find the turkeys hiding around the library. Turn your scavenger hunt in to the kid's desk for a small prize. Open to kids of all ages. This passive program is available any time the library is open. Please participate just once throughout the month of November.</p>
LOCATION:Douglas County Library\, 720 Filmore Street Alexandria\, Minnesota 56308
CLASS:PUBLIC
END:VEVENT
END:VCALENDAR
