BEGIN:VCALENDAR
VERSION:2.0
PRODID:Douglas County Library, MN Calendar Creator
METHOD:PUBLISH
BEGIN:VEVENT
DTSTAMP:20221213T111852
DTSTART:20221213T160000
DTEND:20221218T193000
SUMMARY:Snowman Door Hanger
DESCRIPTION:<div><p>Come make this absolutely adorable snowman door hanger with Gwen from The Design Station.</p></div><p><a href="https://douglascountylibrary.libcal.com/event/9831544" target="_blank">Please register here.</a></p><p>&nbsp;</p><p><strong>This is now a Take &amp; Make craft! Stop by the library to pick up your kit.&nbsp;</strong></p><p><strong>Kits will be held until Friday, Dec. 16<sup>th</sup>&nbsp;at 5:00 pm.</strong></p><p>&nbsp;</p><p>&nbsp;</p><p>This program is sponsored by Douglas County Library and Viking Library System. This project was funded in part or in whole with monies from Minnesota’s Arts and Cultural Heritage fund.</p><p>&nbsp;</p>
X-ALT-DESC;FMTTYPE=text/html:<div><p>Come make this absolutely adorable snowman door hanger with Gwen from The Design Station.</p></div><p><a href="https://douglascountylibrary.libcal.com/event/9831544" target="_blank">Please register here.</a></p><p>&nbsp;</p><p><strong>This is now a Take &amp; Make craft! Stop by the library to pick up your kit.&nbsp;</strong></p><p><strong>Kits will be held until Friday, Dec. 16<sup>th</sup>&nbsp;at 5:00 pm.</strong></p><p>&nbsp;</p><p>&nbsp;</p><p>This program is sponsored by Douglas County Library and Viking Library System. This project was funded in part or in whole with monies from Minnesota’s Arts and Cultural Heritage fund.</p><p>&nbsp;</p>
LOCATION:Douglas County Library\, 720 Filmore Street Alexandria\, Minnesota 56308
CLASS:PUBLIC
END:VEVENT
END:VCALENDAR
