BEGIN:VCALENDAR
VERSION:2.0
PRODID:Douglas County Library, MN Calendar Creator
METHOD:PUBLISH
BEGIN:VEVENT
DTSTAMP:20221025T125122
DTSTART:20221110T103000
DTEND:20221110T113000
SUMMARY:Tech Time: Meet Libby
DESCRIPTION:<p>Join us and learn how to use your mobile device to borrow and read ebooks, audiobook, and magazines!</p><p>This class will take you through the process of downloading the Libby app, then searching for and checking out a digital title.&nbsp;</p><p>Bring your device, library card, and app store login information. </p><p>You'll leave with a book or audiobook downloaded and ready to go!</p><p><a href="https://douglascountylibrary.libcal.com/event/9831535" target="_blank">Please register here.</a></p><p></p>
X-ALT-DESC;FMTTYPE=text/html:<p>Join us and learn how to use your mobile device to borrow and read ebooks, audiobook, and magazines!</p><p>This class will take you through the process of downloading the Libby app, then searching for and checking out a digital title.&nbsp;</p><p>Bring your device, library card, and app store login information. </p><p>You'll leave with a book or audiobook downloaded and ready to go!</p><p><a href="https://douglascountylibrary.libcal.com/event/9831535" target="_blank">Please register here.</a></p><p></p>
LOCATION:Douglas County Library\, 720 Filmore Street Alexandria\, Minnesota 56308
CLASS:PUBLIC
END:VEVENT
END:VCALENDAR
