BEGIN:VCALENDAR
VERSION:2.0
PRODID:Douglas County Library, MN Calendar Creator
METHOD:PUBLISH
BEGIN:VEVENT
DTSTAMP:20250924T142249
DTSTART:20251115T090000
DTEND:20251115T150000
SUMMARY:Puzzle Palooza 2025
DESCRIPTION:<p>Join us for Puzzle Palooza 2025!  Race against other teams to be the first team to finish your 500-piece puzzle or 1,000-piece puzzle! First-place winners will receive a grand prize. There will also be prizes for best-dressed team and best team name, so be creative! Bring your own refreshments for the day. The event is located in the gymnasium adjacent from the library.</p><p>&nbsp;500-piece team registration (2-3 people on team):&nbsp;<a href="https://douglascountylibrary.libcal.com/event/15328881" target="_blank" rel="noopener">https://douglascountylibrary.libcal.com/event/15328881</a></p><p>1,000-piece team registration (4-5 people on team):&nbsp;<a href="https://douglascountylibrary.libcal.com/event/15328885" target="_blank" rel="noopener">https://douglascountylibrary.libcal.com/event/15328885</a></p><p></p>
X-ALT-DESC;FMTTYPE=text/html:<p>Join us for Puzzle Palooza 2025!  Race against other teams to be the first team to finish your 500-piece puzzle or 1,000-piece puzzle! First-place winners will receive a grand prize. There will also be prizes for best-dressed team and best team name, so be creative! Bring your own refreshments for the day. The event is located in the gymnasium adjacent from the library.</p><p>&nbsp;500-piece team registration (2-3 people on team):&nbsp;<a href="https://douglascountylibrary.libcal.com/event/15328881" target="_blank" rel="noopener">https://douglascountylibrary.libcal.com/event/15328881</a></p><p>1,000-piece team registration (4-5 people on team):&nbsp;<a href="https://douglascountylibrary.libcal.com/event/15328885" target="_blank" rel="noopener">https://douglascountylibrary.libcal.com/event/15328885</a></p><p></p>
LOCATION:Douglas County Library\, 720 Filmore Street Alexandria\, Minnesota 56308
CLASS:PUBLIC
END:VEVENT
END:VCALENDAR
