BEGIN:VCALENDAR
VERSION:2.0
PRODID:Douglas County Library, MN Calendar Creator
METHOD:PUBLISH
BEGIN:VEVENT
DTSTAMP:20250919T143940
DTSTART:20251010T130000
DTEND:20251010T150000
SUMMARY:Cricut 201 Class for Adults
DESCRIPTION:<p>In this class, you will learn how to use the Infusible Ink Cricut material to heat press a design onto a tea towel. You will use basic Cricut techniques as well as learn how to use the Cricut EasyPress machine. Previous participation in the Cricut 101 Class for Adults is not required, but suggested.</p><p>Use this link to register:&nbsp;<a href="https://douglascountylibrary.libcal.com/event/15376631" target="_blank" rel="noopener">https://douglascountylibrary.libcal.com/event/15376631</a></p>
X-ALT-DESC;FMTTYPE=text/html:<p>In this class, you will learn how to use the Infusible Ink Cricut material to heat press a design onto a tea towel. You will use basic Cricut techniques as well as learn how to use the Cricut EasyPress machine. Previous participation in the Cricut 101 Class for Adults is not required, but suggested.</p><p>Use this link to register:&nbsp;<a href="https://douglascountylibrary.libcal.com/event/15376631" target="_blank" rel="noopener">https://douglascountylibrary.libcal.com/event/15376631</a></p>
LOCATION:Douglas County Library\, 720 Filmore Street Alexandria\, Minnesota 56308
CLASS:PUBLIC
END:VEVENT
END:VCALENDAR
