BEGIN:VCALENDAR
VERSION:2.0
PRODID:Douglas County Library, MN Calendar Creator
METHOD:PUBLISH
BEGIN:VEVENT
DTSTAMP:20250919T143858
DTSTART:20250926T130000
DTEND:20250926T150000
SUMMARY:Cricut 101 Class for Adults
DESCRIPTION:<p>Join us for a Cricut 101 Class for Adults! This event will take place from 1-3 p.m. on Friday, September 26. *Note: This is the same exact event as the August Cricut <a tabindex="-1" xdj266r="" x14z9mp="" xat24cr="" x1lziwak="" xexx8yu="" xyri2b="" x18d9i69="" x1c1uobl="" x1hl2dhg="" x16tdsg8="" x1vvkbs"=""></a>class, other Cricut classes will be available soon</p><p>Use this link to register:&nbsp;<a href="https://douglascountylibrary.libcal.com/event/15376319" target="_blank" rel="noopener">https://douglascountylibrary.libcal.com/event/15376319</a></p>
X-ALT-DESC;FMTTYPE=text/html:<p>Join us for a Cricut 101 Class for Adults! This event will take place from 1-3 p.m. on Friday, September 26. *Note: This is the same exact event as the August Cricut <a tabindex="-1" xdj266r="" x14z9mp="" xat24cr="" x1lziwak="" xexx8yu="" xyri2b="" x18d9i69="" x1c1uobl="" x1hl2dhg="" x16tdsg8="" x1vvkbs"=""></a>class, other Cricut classes will be available soon</p><p>Use this link to register:&nbsp;<a href="https://douglascountylibrary.libcal.com/event/15376319" target="_blank" rel="noopener">https://douglascountylibrary.libcal.com/event/15376319</a></p>
LOCATION:Douglas County Library\, 720 Filmore Street Alexandria\, Minnesota 56308
CLASS:PUBLIC
END:VEVENT
END:VCALENDAR
