BEGIN:VCALENDAR
VERSION:2.0
PRODID:Douglas County Library, MN Calendar Creator
METHOD:PUBLISH
BEGIN:VEVENT
DTSTAMP:20221019T150250
DTSTART:20221114T180000
DTEND:20221114T190000
SUMMARY:Bill Jamerson: Dollar-A-Day Boys
DESCRIPTION:<p>Join us in the large meeting room on November 14th at 6:00 pm for this one of a kind event!</p><p>Author, songwriter, and filmmaker Bill Jamerson presents: Dollar-A-Day Boys - a musical tribute to the Civilian Conservation Corps.</p><p>A fun, nostalgic look at the 1930's Federal Works Program that gave employment to 3.5 million men.&nbsp;</p><p>Hilarious stories, foot tapping songs, and a short video makes this a "must see" experience!</p><p>This program is sponsored by Douglas County Library and Viking Library System. This project was funded in part or in whole with monies from Minnesota's Arts and Cultural Heritage fund.</p><p></p>
X-ALT-DESC;FMTTYPE=text/html:<p>Join us in the large meeting room on November 14th at 6:00 pm for this one of a kind event!</p><p>Author, songwriter, and filmmaker Bill Jamerson presents: Dollar-A-Day Boys - a musical tribute to the Civilian Conservation Corps.</p><p>A fun, nostalgic look at the 1930's Federal Works Program that gave employment to 3.5 million men.&nbsp;</p><p>Hilarious stories, foot tapping songs, and a short video makes this a "must see" experience!</p><p>This program is sponsored by Douglas County Library and Viking Library System. This project was funded in part or in whole with monies from Minnesota's Arts and Cultural Heritage fund.</p><p></p>
LOCATION:Douglas County Library\, 720 Filmore Street Alexandria\, Minnesota 56308
CLASS:PUBLIC
END:VEVENT
END:VCALENDAR
