BEGIN:VCALENDAR
VERSION:2.0
PRODID:Douglas County Library, MN Calendar Creator
METHOD:PUBLISH
BEGIN:VEVENT
DTSTAMP:20250708T134019
DTSTART:20250722T150000
DTEND:20250722T160000
SUMMARY:Adult Craft: Garden Stakes
DESCRIPTION:<p>Add a bit of color with this fun and easy-to-assemble garden stake craft! Bright beads and beautiful butterflies will brighten up your garden, flower pots, or patio. All materials provided – just bring your creativity! Registration is limited to 23 people.</p><p>&nbsp;</p><p>Register with the link here:&nbsp;<a href="https://douglascountylibrary.libcal.com/event/14914151" target="_blank">https://douglascountylibrary.libcal.com/event/14914151</a></p>
X-ALT-DESC;FMTTYPE=text/html:<p>Add a bit of color with this fun and easy-to-assemble garden stake craft! Bright beads and beautiful butterflies will brighten up your garden, flower pots, or patio. All materials provided – just bring your creativity! Registration is limited to 23 people.</p><p>&nbsp;</p><p>Register with the link here:&nbsp;<a href="https://douglascountylibrary.libcal.com/event/14914151" target="_blank">https://douglascountylibrary.libcal.com/event/14914151</a></p>
LOCATION:
CLASS:PUBLIC
END:VEVENT
END:VCALENDAR
