BEGIN:VCALENDAR
VERSION:2.0
PRODID:Douglas County Library, MN Calendar Creator
METHOD:PUBLISH
BEGIN:VEVENT
DTSTAMP:20250625T092615
DTSTART:20250719T130000
DTEND:20250719T150000
SUMMARY:Bookami Class for Adults
DESCRIPTION:<p>Learn the art of Bookami (book origami) at the Douglas County Library.</p><p>This class includes one free book and one free pattern to use. Patterns available include butterfly (pictured), flowers, and heart patterns.</p><p>Start the project at the library with support and bring it home to finish!</p><p>This class is open to 10 individuals, reserve your spot here:&nbsp;<a href="https://douglascountylibrary.libcal.com/event/14851936" target="_blank">https://douglascountylibrary.libcal.com/event/14851936</a></p><p></p>
X-ALT-DESC;FMTTYPE=text/html:<p>Learn the art of Bookami (book origami) at the Douglas County Library.</p><p>This class includes one free book and one free pattern to use. Patterns available include butterfly (pictured), flowers, and heart patterns.</p><p>Start the project at the library with support and bring it home to finish!</p><p>This class is open to 10 individuals, reserve your spot here:&nbsp;<a href="https://douglascountylibrary.libcal.com/event/14851936" target="_blank">https://douglascountylibrary.libcal.com/event/14851936</a></p><p></p>
LOCATION:Douglas County Library\, 720 Filmore Street Alexandria\, Minnesota 56308
CLASS:PUBLIC
END:VEVENT
END:VCALENDAR
