BEGIN:VCALENDAR
VERSION:2.0
PRODID:Douglas County Library, MN Calendar Creator
METHOD:PUBLISH
BEGIN:VEVENT
DTSTAMP:20250623T132215
DTSTART:20250719T090000
DTEND:20250719T120000
SUMMARY:Tech Zoo
DESCRIPTION:<p>Welcome to the Tech Petting Zoo!<br><br>Come out to the Library on July 19th to try some of the latest devices such as:<br>&nbsp; - Phones<br>&nbsp; - Tablets<br>&nbsp; - eReaders<br>&nbsp; - Smart Home Devices<br>&nbsp; - Laptops<br>&nbsp; - Gaming Consoles<br>&nbsp; - Virtual Reality</p><p>&nbsp;Learn how to use these devices from experts and try them out!</p><p>Special thanks to our partners at <strong>BeMobile Verizon</strong>, <strong>Computer Specialists Unlimited</strong>, and <strong>Premier Esports &amp; Gaming</strong> for providing the devices and expertise!</p><p>&nbsp;No Registration Required</p><p><em>Please note that no devices or services will be sold at the event. Devices are for informational purposes only. Patrons are welcome to request additional information after the event has concluded.</em></p>
X-ALT-DESC;FMTTYPE=text/html:<p>Welcome to the Tech Petting Zoo!<br><br>Come out to the Library on July 19th to try some of the latest devices such as:<br>&nbsp; - Phones<br>&nbsp; - Tablets<br>&nbsp; - eReaders<br>&nbsp; - Smart Home Devices<br>&nbsp; - Laptops<br>&nbsp; - Gaming Consoles<br>&nbsp; - Virtual Reality</p><p>&nbsp;Learn how to use these devices from experts and try them out!</p><p>Special thanks to our partners at <strong>BeMobile Verizon</strong>, <strong>Computer Specialists Unlimited</strong>, and <strong>Premier Esports &amp; Gaming</strong> for providing the devices and expertise!</p><p>&nbsp;No Registration Required</p><p><em>Please note that no devices or services will be sold at the event. Devices are for informational purposes only. Patrons are welcome to request additional information after the event has concluded.</em></p>
LOCATION:Douglas County Library\, 720 Filmore Street Alexandria\, Minnesota 56308
CLASS:PUBLIC
END:VEVENT
END:VCALENDAR
