BEGIN:VCALENDAR
VERSION:2.0
PRODID:Douglas County Library, MN Calendar Creator
METHOD:PUBLISH
BEGIN:VEVENT
DTSTAMP:20250507T124443
DTSTART:20250517T090000
DTEND:20250517T120000
SUMMARY:Maker Lab: Open Lab
DESCRIPTION:<p direction-ltr="" align-center="" para-style-body"="">It’s your turn to create!</p><p direction-ltr="" align-center="" para-style-body"="">Join us in the Maker Lab to start working on your project. Machines are available to use on a first come first served basis. Feel free to leave your 3D design with library staff for after-hours printing. Computers are available for those working on the design process.</p><p direction-ltr="" align-center="" para-style-body"="">&nbsp;Available equipment:</p><p direction-ltr="" align-center="" para-style-body"="">+ computers with design software</p><p direction-ltr="" align-center="" para-style-body"="">+ laser cutter and engraver</p><p direction-ltr="" align-center="" para-style-body"="">+ sublimation printer</p><p direction-ltr="" align-center="" para-style-body"="">+ 3D printer</p><p direction-ltr="" align-center="" para-style-body"="">&nbsp;</p><p direction-ltr="" align-center="" para-style-body"="">Item Examples:<br>&nbsp;- Can Koozies - $1.00<br>&nbsp;- Metal Bookmarks - $1.00<br>&nbsp;- Wind Spinners - $5.00<br>&nbsp;- Garden Flags&nbsp;- $4.00<br>&nbsp;- Ceramic Tiles&nbsp;- $1.00<br>&nbsp;- Coffee Mugs&nbsp;- $4.00<br>&nbsp;- Metal Tumblers&nbsp;- $7.00<br>&nbsp;- Car Coasters&nbsp;- $1.00 (Set of 2)<br>&nbsp;- GlowForge projects - Varies by Material<br>&nbsp;- 3D prints&nbsp;- $0.10/Gram of Filament</p><p direction-ltr="" align-center="" para-style-body"="">&nbsp;</p><p direction-ltr="" align-center="" para-style-body"=""><em>If you have a custom design already prepared or a personal image you would like to use, please bring it on a flash drive to upload into our design software.</em></p><p direction-ltr="" align-center="" para-style-body"="">&nbsp;</p><p direction-ltr="" align-center="" para-style-body"="">CLICK <a href="https://douglascountylibrary.libcal.com/event/14411091" target="_blank">HERE</a> TO REGISTER</p>
X-ALT-DESC;FMTTYPE=text/html:<p direction-ltr="" align-center="" para-style-body"="">It’s your turn to create!</p><p direction-ltr="" align-center="" para-style-body"="">Join us in the Maker Lab to start working on your project. Machines are available to use on a first come first served basis. Feel free to leave your 3D design with library staff for after-hours printing. Computers are available for those working on the design process.</p><p direction-ltr="" align-center="" para-style-body"="">&nbsp;Available equipment:</p><p direction-ltr="" align-center="" para-style-body"="">+ computers with design software</p><p direction-ltr="" align-center="" para-style-body"="">+ laser cutter and engraver</p><p direction-ltr="" align-center="" para-style-body"="">+ sublimation printer</p><p direction-ltr="" align-center="" para-style-body"="">+ 3D printer</p><p direction-ltr="" align-center="" para-style-body"="">&nbsp;</p><p direction-ltr="" align-center="" para-style-body"="">Item Examples:<br>&nbsp;- Can Koozies - $1.00<br>&nbsp;- Metal Bookmarks - $1.00<br>&nbsp;- Wind Spinners - $5.00<br>&nbsp;- Garden Flags&nbsp;- $4.00<br>&nbsp;- Ceramic Tiles&nbsp;- $1.00<br>&nbsp;- Coffee Mugs&nbsp;- $4.00<br>&nbsp;- Metal Tumblers&nbsp;- $7.00<br>&nbsp;- Car Coasters&nbsp;- $1.00 (Set of 2)<br>&nbsp;- GlowForge projects - Varies by Material<br>&nbsp;- 3D prints&nbsp;- $0.10/Gram of Filament</p><p direction-ltr="" align-center="" para-style-body"="">&nbsp;</p><p direction-ltr="" align-center="" para-style-body"=""><em>If you have a custom design already prepared or a personal image you would like to use, please bring it on a flash drive to upload into our design software.</em></p><p direction-ltr="" align-center="" para-style-body"="">&nbsp;</p><p direction-ltr="" align-center="" para-style-body"="">CLICK <a href="https://douglascountylibrary.libcal.com/event/14411091" target="_blank">HERE</a> TO REGISTER</p>
LOCATION:Douglas County Library\, 720 Filmore Street Alexandria\, Minnesota 56308
CLASS:PUBLIC
END:VEVENT
END:VCALENDAR
