BEGIN:VCALENDAR
VERSION:2.0
PRODID:Douglas County Library, MN Calendar Creator
METHOD:PUBLISH
BEGIN:VEVENT
DTSTAMP:20220921T115148
DTSTART:20221003T173000
DTEND:20221003T183000
SUMMARY:Paint Your Own Halloween Gnome Ornament for Adults
DESCRIPTION:<p>Paint a wooden Halloween Gnome ornament! This program is for adults. A similar event for kids will be held in early November.</p><p>Registration is required.&nbsp;<a href="https://douglascountylibrary.libcal.com/event/9705804" target="_blank">Please sign-up here</a>.</p>
X-ALT-DESC;FMTTYPE=text/html:<p>Paint a wooden Halloween Gnome ornament! This program is for adults. A similar event for kids will be held in early November.</p><p>Registration is required.&nbsp;<a href="https://douglascountylibrary.libcal.com/event/9705804" target="_blank">Please sign-up here</a>.</p>
LOCATION:Douglas County Library\, 720 Filmore Street Alexandria\, Minnesota 56308
CLASS:PUBLIC
END:VEVENT
END:VCALENDAR
