BEGIN:VCALENDAR
VERSION:2.0
PRODID:Douglas County Library, MN Calendar Creator
METHOD:PUBLISH
BEGIN:VEVENT
DTSTAMP:20250128T152228
DTSTART:20250213T130000
DTEND:20250213T140000
SUMMARY:Bluesky Introductory Class
DESCRIPTION:<p>&nbsp;Bluesky is one of the fastest growing Social Media platforms on the internet.<br><br>If you are interested in learning more about it, come out to the library on February 13th at 1:00 PM.</p><p>We'll learn a little bit about the app, how to access it on different devices, and basic use.</p><p>&nbsp;</p><p><em>No Registration Required.</em></p><p><i>Please bring in your own device if you would like to set up an account during the class</i>.</p>
X-ALT-DESC;FMTTYPE=text/html:<p>&nbsp;Bluesky is one of the fastest growing Social Media platforms on the internet.<br><br>If you are interested in learning more about it, come out to the library on February 13th at 1:00 PM.</p><p>We'll learn a little bit about the app, how to access it on different devices, and basic use.</p><p>&nbsp;</p><p><em>No Registration Required.</em></p><p><i>Please bring in your own device if you would like to set up an account during the class</i>.</p>
LOCATION:Douglas County Library\, 720 Filmore Street Alexandria\, Minnesota 56308
CLASS:PUBLIC
END:VEVENT
END:VCALENDAR
