BEGIN:VCALENDAR
VERSION:2.0
PRODID:Douglas County Library, MN Calendar Creator
METHOD:PUBLISH
BEGIN:VEVENT
DTSTAMP:20250121T141007
DTSTART:20250225T140000
DTEND:20250225T150000
SUMMARY:Springtime Tile Coasters
DESCRIPTION:<div><p>Create a set of spring themed coasters using ceramic tiles and paper napkins. Multiple designs to choose from! This is an adult craft.</p><p>Tuesday, February 25<br>2:00 pm - 3:00 pm<br>Large Meeting Room</p></div><p><div></div><a href="https://douglascountylibrary.libcal.com/event/14007206" target="_blank">Please register here.</a></p><p>&nbsp;</p>
X-ALT-DESC;FMTTYPE=text/html:<div><p>Create a set of spring themed coasters using ceramic tiles and paper napkins. Multiple designs to choose from! This is an adult craft.</p><p>Tuesday, February 25<br>2:00 pm - 3:00 pm<br>Large Meeting Room</p></div><p><div></div><a href="https://douglascountylibrary.libcal.com/event/14007206" target="_blank">Please register here.</a></p><p>&nbsp;</p>
LOCATION:Douglas County Library\, 720 Filmore Street Alexandria\, Minnesota 56308
CLASS:PUBLIC
END:VEVENT
END:VCALENDAR
