BEGIN:VCALENDAR
VERSION:2.0
PRODID:Douglas County Library, MN Calendar Creator
METHOD:PUBLISH
BEGIN:VEVENT
DTSTAMP:20250121T083726
DTSTART:20250203T130000
DTEND:20250203T140000
SUMMARY:Valentine's Day Adult Craft
DESCRIPTION:<div><p>Fall in love with this adorable candy dish! We’ll provide all the supplies you need to create this charming decoration.</p></div><p>Monday, February 3 1:00 pm - 2:00 pm Large Meeting Room</p><p><div></div></p><p><a href="https://douglascountylibrary.libcal.com/event/14007198" target="_blank">Please register here</a></p><p></p>
X-ALT-DESC;FMTTYPE=text/html:<div><p>Fall in love with this adorable candy dish! We’ll provide all the supplies you need to create this charming decoration.</p></div><p>Monday, February 3 1:00 pm - 2:00 pm Large Meeting Room</p><p><div></div></p><p><a href="https://douglascountylibrary.libcal.com/event/14007198" target="_blank">Please register here</a></p><p></p>
LOCATION:Douglas County Library\, 720 Filmore Street Alexandria\, Minnesota 56308
CLASS:PUBLIC
END:VEVENT
END:VCALENDAR
