BEGIN:VCALENDAR
VERSION:2.0
PRODID:Douglas County Library, MN Calendar Creator
METHOD:PUBLISH
BEGIN:VEVENT
DTSTAMP:20220824T100808
DTSTART:20221011T183000
DTEND:20221011T190000
SUMMARY:Preschool Storytime via Zoom
DESCRIPTION:<p>Join Ms. Sarah on Tuesday evenings for storytime via Zoom! She will read stories, sing songs, and bring out some fun storytime accessories!&nbsp;</p><p>This program is held online so users must have Zoom installed on their phone, computer, or tablet.</p><p>You can log into these <a href="https://us02web.zoom.us/j/89888758388" target="_blank">Zoom meetings here</a>.</p><p>This program is recommended for ages 3-5 but any parent, caregiver, and child is welcome to log-in to watch.</p>
X-ALT-DESC;FMTTYPE=text/html:<p>Join Ms. Sarah on Tuesday evenings for storytime via Zoom! She will read stories, sing songs, and bring out some fun storytime accessories!&nbsp;</p><p>This program is held online so users must have Zoom installed on their phone, computer, or tablet.</p><p>You can log into these <a href="https://us02web.zoom.us/j/89888758388" target="_blank">Zoom meetings here</a>.</p><p>This program is recommended for ages 3-5 but any parent, caregiver, and child is welcome to log-in to watch.</p>
LOCATION:Douglas County Library\, 720 Filmore Street Alexandria\, Minnesota 56308
CLASS:PUBLIC
END:VEVENT
END:VCALENDAR
