BEGIN:VCALENDAR
VERSION:2.0
PRODID:Douglas County Library, MN Calendar Creator
METHOD:PUBLISH
BEGIN:VEVENT
DTSTAMP:20250102T102146
DTSTART:20250307T140000
DTEND:20250307T170000
SUMMARY:Miniature Art Show and Contest for Teens
DESCRIPTION:<p direction-ltr="" align-center="" para-style-body"="">Rules: </p><p direction-ltr="" align-center="" para-style-body"="">1. Register for a 4x4 canvas.&nbsp;<a href="https://douglascountylibrary.libcal.com/event/13889368" target="_blank">Register Here!</a></p><p direction-ltr="" align-center="" para-style-body"="">2. Paint your canvas in the Teen Area! We will have supplies out March 3-7 from 2PM to 5PM.</p><p direction-ltr="" align-center="" para-style-body"=""> </p><p direction-ltr="" align-center="" para-style-body"="">3. Art will be displayed and voted on from March 10th-29th.</p><p direction-ltr="" align-center="" para-style-body"="">Winners in each age group will receive a prize!</p><p direction-ltr="" align-center="" para-style-body"="">Grades 6-12 Only. Registration required.</p><p direction-ltr="" align-center="" para-style-body"="">Two age categories - Grades 6-8 &amp; Grades 9-12</p><p direction-ltr="" align-center="" para-style-body"="">Winners announced March 31st.</p>
X-ALT-DESC;FMTTYPE=text/html:<p direction-ltr="" align-center="" para-style-body"="">Rules: </p><p direction-ltr="" align-center="" para-style-body"="">1. Register for a 4x4 canvas.&nbsp;<a href="https://douglascountylibrary.libcal.com/event/13889368" target="_blank">Register Here!</a></p><p direction-ltr="" align-center="" para-style-body"="">2. Paint your canvas in the Teen Area! We will have supplies out March 3-7 from 2PM to 5PM.</p><p direction-ltr="" align-center="" para-style-body"=""> </p><p direction-ltr="" align-center="" para-style-body"="">3. Art will be displayed and voted on from March 10th-29th.</p><p direction-ltr="" align-center="" para-style-body"="">Winners in each age group will receive a prize!</p><p direction-ltr="" align-center="" para-style-body"="">Grades 6-12 Only. Registration required.</p><p direction-ltr="" align-center="" para-style-body"="">Two age categories - Grades 6-8 &amp; Grades 9-12</p><p direction-ltr="" align-center="" para-style-body"="">Winners announced March 31st.</p>
LOCATION:Douglas County Library\, 720 Filmore Street Alexandria\, Minnesota 56308
CLASS:PUBLIC
END:VEVENT
END:VCALENDAR
