BEGIN:VCALENDAR
VERSION:2.0
PRODID:Douglas County Library, MN Calendar Creator
METHOD:PUBLISH
BEGIN:VEVENT
DTSTAMP:20241230T133844
DTSTART:20250127T130000
DTEND:20250127T140000
SUMMARY:Tech Time
DESCRIPTION:<p>Join us for Tech Time at the Library!<br><br>Each month we will have a roughly 1 hour class on different Tech Topics. These are introductory classes meant to teach the basics of each topic. Tech Times will be held on the 4th Monday of each month in the Small Conference Room (just past the Children's Area).</p><p><em>No Registration Necessary</em></p><p><strong>Upcoming Topics:</strong></p><ul>    <li>January 27th - Computer and Internet Basics</li>    <li>February 24th - Email Essentials</li>    <li>March 24th - File Management</li>    <li>April 28th - Staying Safe Online</li></ul><p>&nbsp;</p><p>We also offer scheduled half-hour Tech Help if you need additional help or have specific questions about your devices.</p><p>Call 320-762-3014 to schedule.</p>
X-ALT-DESC;FMTTYPE=text/html:<p>Join us for Tech Time at the Library!<br><br>Each month we will have a roughly 1 hour class on different Tech Topics. These are introductory classes meant to teach the basics of each topic. Tech Times will be held on the 4th Monday of each month in the Small Conference Room (just past the Children's Area).</p><p><em>No Registration Necessary</em></p><p><strong>Upcoming Topics:</strong></p><ul>    <li>January 27th - Computer and Internet Basics</li>    <li>February 24th - Email Essentials</li>    <li>March 24th - File Management</li>    <li>April 28th - Staying Safe Online</li></ul><p>&nbsp;</p><p>We also offer scheduled half-hour Tech Help if you need additional help or have specific questions about your devices.</p><p>Call 320-762-3014 to schedule.</p>
LOCATION:Douglas County Library\, 720 Filmore Street Alexandria\, Minnesota 56308
CLASS:PUBLIC
END:VEVENT
END:VCALENDAR
